BEGIN:VCALENDAR
VERSION:2.0
PRODID:-//Amelia Island Genealogical Society - ECPv6.15.18//NONSGML v1.0//EN
CALSCALE:GREGORIAN
METHOD:PUBLISH
X-WR-CALNAME:Amelia Island Genealogical Society
X-ORIGINAL-URL:https://aigensoc.org
X-WR-CALDESC:Events for Amelia Island Genealogical Society
REFRESH-INTERVAL;VALUE=DURATION:PT1H
X-Robots-Tag:noindex
X-PUBLISHED-TTL:PT1H
BEGIN:VTIMEZONE
TZID:America/New_York
BEGIN:DAYLIGHT
TZOFFSETFROM:-0500
TZOFFSETTO:-0400
TZNAME:EDT
DTSTART:20210314T070000
END:DAYLIGHT
BEGIN:STANDARD
TZOFFSETFROM:-0400
TZOFFSETTO:-0500
TZNAME:EST
DTSTART:20211107T060000
END:STANDARD
BEGIN:DAYLIGHT
TZOFFSETFROM:-0500
TZOFFSETTO:-0400
TZNAME:EDT
DTSTART:20220313T070000
END:DAYLIGHT
BEGIN:STANDARD
TZOFFSETFROM:-0400
TZOFFSETTO:-0500
TZNAME:EST
DTSTART:20221106T060000
END:STANDARD
BEGIN:DAYLIGHT
TZOFFSETFROM:-0500
TZOFFSETTO:-0400
TZNAME:EDT
DTSTART:20230312T070000
END:DAYLIGHT
BEGIN:STANDARD
TZOFFSETFROM:-0400
TZOFFSETTO:-0500
TZNAME:EST
DTSTART:20231105T060000
END:STANDARD
END:VTIMEZONE
BEGIN:VEVENT
DTSTART;TZID=America/New_York:20220914T163000
DTEND;TZID=America/New_York:20220914T180000
DTSTAMP:20260421T040657
CREATED:20211211T010131Z
LAST-MODIFIED:20230206T175705Z
UID:17533-1663173000-1663178400@aigensoc.org
SUMMARY:September 2022 Business Meeting
DESCRIPTION:The Amelia Island Genealogical Society board and officers meet monthly to handle the society business. AIGS membership is welcome to attend. \n\n\n\nCandidates from the Nominating committee for the 2023 Board should be received by the 2022 Board on September 1. \n\n\n\nGoogle Meet Joining Information\n\n\n\nVideo call link: https://meet.google.com/pfk-tyhq-zveOr dial: (US) +1 346-908-0731 PIN: 722 543 807#More phone numbers: https://tel.meet/pfk-tyhq-zvepin=6838325626893
URL:https://aigensoc.org/event/september-2022-business-meeting/
LOCATION:Online
CATEGORIES:Business Meeting
END:VEVENT
BEGIN:VEVENT
DTSTART;TZID=America/New_York:20220920T190000
DTEND;TZID=America/New_York:20220920T203000
DTSTAMP:20260421T040657
CREATED:20220301T133851Z
LAST-MODIFIED:20220829T145243Z
UID:17707-1663700400-1663705800@aigensoc.org
SUMMARY:Family History - Fun and Foibles
DESCRIPTION:Come join us on 20 September 2022 at 7pm in the Community room at the Fernandina Beach Branch Library where Joel Warner will present his discussion topic of “Family History – Fun and Foibles.” This presentation by Joel Warner goes back to England and tackles some research problems from four different families.  During a review of each of these cases\, we identify interesting flukes\, errors and assumptions which took us down some wrong paths. We will also look at the corrective actions which solved some problems.  Some of the problems were quite difficult\, some were much easier.  Some had stayed “on the books” for many years and some were recent.  We are able to see that one of our best tools as family history researchers is a healthy skepticism.  Our goals as family historians is not to put together what probably happened or what might have happened.  Our goal is to find\, through reasonable exhaustive research\, what did happen.  We cannot know everything\, but by linking documents together we can can be reasonably certain of many things. \n\n\n\nWarner’s goal in this presentation is to use real cases he has worked on to demonstrate how perseverance and luck will often help research solve problems.  Some may take patience as more and more records become available.  But there is great satisfaction with connecting yourself to the real lives of the real family members who contributed to what and who you are. \n\n\n\nJoel Warner\n\n\n\nJoel Warner\n\n\n\nJoel Warner has had interest in Family History since he was a boy.  This was due to his mother and grandparents working in the area and sharing stories of how his ancestors came to America\, the problems they faced and what they left behind. He finds working with others to help them progress is enriching and fulfilling. He has lived in Jacksonville for about 30 years\, finally landing there after living in California\, Utah\, Ohio\, Indiana\, Oklahoma\, Maryland and Australia. He is a member of the Jacksonville Genealogy Society and the Southern Genealogy Exchange Society.  He has served on the planning committee of the North Florida Genealogy Conference for many years.
URL:https://aigensoc.org/event/family-history-fun-and-foibles/
LOCATION:Fernandina Beach Library\, 25 N 4th St\, Fernandina Beach\, FL\, 32034\, United States
CATEGORIES:General Meeting
ATTACH;FMTTYPE=image/png:https://aigensoc.org/wp-content/uploads/2022/02/Joel-Warner.png
ORGANIZER;CN="Amelia Island Genealogical Society":MAILTO:programs@aigensoc.org
END:VEVENT
END:VCALENDAR