BEGIN:VCALENDAR
VERSION:2.0
PRODID:-//Amelia Island Genealogical Society - ECPv6.15.18//NONSGML v1.0//EN
CALSCALE:GREGORIAN
METHOD:PUBLISH
X-WR-CALNAME:Amelia Island Genealogical Society
X-ORIGINAL-URL:https://aigensoc.org
X-WR-CALDESC:Events for Amelia Island Genealogical Society
REFRESH-INTERVAL;VALUE=DURATION:PT1H
X-Robots-Tag:noindex
X-PUBLISHED-TTL:PT1H
BEGIN:VTIMEZONE
TZID:America/New_York
BEGIN:DAYLIGHT
TZOFFSETFROM:-0500
TZOFFSETTO:-0400
TZNAME:EDT
DTSTART:20210314T070000
END:DAYLIGHT
BEGIN:STANDARD
TZOFFSETFROM:-0400
TZOFFSETTO:-0500
TZNAME:EST
DTSTART:20211107T060000
END:STANDARD
BEGIN:DAYLIGHT
TZOFFSETFROM:-0500
TZOFFSETTO:-0400
TZNAME:EDT
DTSTART:20220313T070000
END:DAYLIGHT
BEGIN:STANDARD
TZOFFSETFROM:-0400
TZOFFSETTO:-0500
TZNAME:EST
DTSTART:20221106T060000
END:STANDARD
BEGIN:DAYLIGHT
TZOFFSETFROM:-0500
TZOFFSETTO:-0400
TZNAME:EDT
DTSTART:20230312T070000
END:DAYLIGHT
BEGIN:STANDARD
TZOFFSETFROM:-0400
TZOFFSETTO:-0500
TZNAME:EST
DTSTART:20231105T060000
END:STANDARD
END:VTIMEZONE
BEGIN:VEVENT
DTSTART;TZID=America/New_York:20220810T163000
DTEND;TZID=America/New_York:20220810T180000
DTSTAMP:20260422T072410
CREATED:20211211T010108Z
LAST-MODIFIED:20230206T175705Z
UID:17532-1660149000-1660154400@aigensoc.org
SUMMARY:August 2022 Business Meeting
DESCRIPTION:The Amelia Island Genealogical Society board and officers meet monthly to handle the society business. AIGS membership is welcome to attend. \n\n\n\nA list of all positions to be filled must be forwarded to the Nominating Committee by 1 September. Positions which must be filled with new people are: President\, Vice-President\, Secretary\, Treasurer and all officers. \n\n\n\nGoogle Meet Joining Information\n\n\n\nVideo call link: https://meet.google.com/pfk-tyhq-zveOr dial: (US) +1 346-908-0731 PIN: 722 543 807#More phone numbers: https://tel.meet/pfk-tyhq-zvepin=6838325626893
URL:https://aigensoc.org/event/august-2022-business-meeting/
LOCATION:Online
CATEGORIES:Business Meeting
END:VEVENT
BEGIN:VEVENT
DTSTART;TZID=America/New_York:20220816T190000
DTEND;TZID=America/New_York:20220816T203000
DTSTAMP:20260422T072410
CREATED:20220721T132721Z
LAST-MODIFIED:20220818T205308Z
UID:18209-1660676400-1660681800@aigensoc.org
SUMMARY:Stop Battling with Military Records 
DESCRIPTION:Come join us at 7pm\, Tuesday\, 16 August 2022\, at the Fernandina Branch Library for a free presentation by John Strasburg concerning military records and their usage in your genealogical research. Military records can be a rich source of genealogical information\, but many researchers steer clear because they don’t feel confident working with them. Become more comfortable around military records by joining guest presenter John Strasburg as he describes the various records available and how to obtain them. Whether experienced with military records or just getting started\, everybody will come away from this program with something new.   \n\n\n\nGoogle Meet joining infoVideo call link: https://meet.google.com/wgv-uoog-hpiOr dial: ‪(US) +1 857-529-7434‬ PIN: ‪232 319 062‬#More phone numbers: https://tel.meet/wgv-uoog-hpi?pin=7090056606911 \n\n\n\nSpeaker: John Strasburg\n\n\n\n\n\n\n\nJohn Strasburg is a genealogist who specializes in military records research and enjoys helping others discover their ancestral past. A retired U.S. Coast Guard commissioned officer\, John holds a bachelor’s degree in political science from SUNY Stony Brook\, a master’s degree in library & information science from the University of South Florida\, and a certificate in genealogical research from Boston University’s Metropolitan School\, Center for Professional Education. John recently published his first book titled He Charged Alone: World War I Medal of Honor Recipient Private First Class Frank Gaffney\, available on Lulu.com. \n\n\n\n\n\n\n\nHe Charged Alone: World War I Medal of Honor Recipient Private First Class Frank Gaffney\n\n\n\nFrank Gaffney was a 33-year-old papermaker from Western New York when America entered the Great War in 1917. While his age exempted him from serving in the military\, Gaffney ran to the colors anyway. He fought bravely on Belgian and French battlefields as a U.S. Army soldier with the 27th Division’s 108th Infantry Regiment. On September 29\, 1918\, Gaffney singlehandedly breached a section of Germany’s Hindenburg Line\, coming away with 80 prisoners. Six grateful nations recognized his bravery\, including his own. In June 1919\, the United States awarded him the Medal of Honor. Years later\, the 27th Division’s commanding general\, Maj. Gen. John F. O’Ryan\, wrote of Gaffney\, “…no one man had performed more daring exploits and had exercised a bigger influence upon those about him by the gallantry of his conduct.” \n\n\n\nIn He Charged Alone\, John Strasburg chronicles the life of a First World War American soldier whose bravery was once compared to that of the legendary Sergeant Alvin York. To tell the story\, the author weaves together Gaffney’s personal correspondence with military/government records\, newspaper accounts\, and published unit histories. Nearly fifty illustrations—photographs and maps—augment the narrative. \n\n\n\nMuch of the book focuses on Gaffney’s military service\, heroism on the battlefield\, and subsequent rehabilitation from a combat injury he received in the war’s closing days\, but not overlooked are Gaffney’s upbringing and how he managed the burden that comes with being a Medal of Honor recipient. At its core\, this book memorializes a true American hero from New York State who in life was admired by people across the country but in death has been nearly forgotten. In He Charged Alone\, Frank Gaffney’s legacy returns to the fore\, where it belongs. \n\n\n\n\nPurchase Book
URL:https://aigensoc.org/event/stop-battling-with-military-records/
LOCATION:Fernandina Beach Library\, 25 N 4th St\, Fernandina Beach\, FL\, 32034\, United States
CATEGORIES:General Meeting
ATTACH;FMTTYPE=image/jpeg:https://aigensoc.org/wp-content/uploads/2022/07/Strasburg.jpg
ORGANIZER;CN="Amelia Island Genealogical Society":MAILTO:programs@aigensoc.org
END:VEVENT
END:VCALENDAR