BEGIN:VCALENDAR
VERSION:2.0
PRODID:-//Amelia Island Genealogical Society - ECPv6.15.18//NONSGML v1.0//EN
CALSCALE:GREGORIAN
METHOD:PUBLISH
X-WR-CALNAME:Amelia Island Genealogical Society
X-ORIGINAL-URL:https://aigensoc.org
X-WR-CALDESC:Events for Amelia Island Genealogical Society
REFRESH-INTERVAL;VALUE=DURATION:PT1H
X-Robots-Tag:noindex
X-PUBLISHED-TTL:PT1H
BEGIN:VTIMEZONE
TZID:America/New_York
BEGIN:DAYLIGHT
TZOFFSETFROM:-0500
TZOFFSETTO:-0400
TZNAME:EDT
DTSTART:20210314T070000
END:DAYLIGHT
BEGIN:STANDARD
TZOFFSETFROM:-0400
TZOFFSETTO:-0500
TZNAME:EST
DTSTART:20211107T060000
END:STANDARD
BEGIN:DAYLIGHT
TZOFFSETFROM:-0500
TZOFFSETTO:-0400
TZNAME:EDT
DTSTART:20220313T070000
END:DAYLIGHT
BEGIN:STANDARD
TZOFFSETFROM:-0400
TZOFFSETTO:-0500
TZNAME:EST
DTSTART:20221106T060000
END:STANDARD
BEGIN:DAYLIGHT
TZOFFSETFROM:-0500
TZOFFSETTO:-0400
TZNAME:EDT
DTSTART:20230312T070000
END:DAYLIGHT
BEGIN:STANDARD
TZOFFSETFROM:-0400
TZOFFSETTO:-0500
TZNAME:EST
DTSTART:20231105T060000
END:STANDARD
END:VTIMEZONE
BEGIN:VEVENT
DTSTART;TZID=America/New_York:20220511T163000
DTEND;TZID=America/New_York:20220511T180000
DTSTAMP:20260425T202341
CREATED:20211211T005940Z
LAST-MODIFIED:20230206T175705Z
UID:17529-1652286600-1652292000@aigensoc.org
SUMMARY:May 2022 Business Meeting
DESCRIPTION:The Amelia Island Genealogical Society board and officers meet monthly to handle the society business. AIGS membership is welcome to attend  \n\n\n\nGoogle Meet Joining Information\n\n\n\nVideo call link: https://meet.google.com/pfk-tyhq-zveOr dial: (US) +1 346-908-0731 PIN: 722 543 807#More phone numbers: https://tel.meet/pfk-tyhq-zvepin=6838325626893
URL:https://aigensoc.org/event/may-2022-business-meeting/
LOCATION:Online
CATEGORIES:Business Meeting
END:VEVENT
BEGIN:VEVENT
DTSTART;TZID=America/New_York:20220517T190000
DTEND;TZID=America/New_York:20220517T203000
DTSTAMP:20260425T202341
CREATED:20220415T200645Z
LAST-MODIFIED:20220427T215600Z
UID:17811-1652814000-1652819400@aigensoc.org
SUMMARY:Your Ancestor's FAN Club
DESCRIPTION:Using Cluster Research to Get Past Brick Walls \n\n\n\n\n\nOur ancestors were each surrounded by Family\, Associates\, and Neighbors. By researching them\, we discover additional records pointing to our own ancestors. Join us in person for a webinar on this interesting topic by Drew Smith. \n\n\n\nDrew Smith\n\n\n\n\n\n\n\nDrew Smith developed an interest in genealogy as a child\, and he began to engage in serious family history research in 1992 after the death of his favorite aunt. In 2009\, Genealogical Publishing Company published his first genealogy book\, Social Networking for Genealogists. His second book\, co-authored with George G. Morgan\, is Advanced Genealogy Research Techniques\, published in 2013 by McGraw-Hill. His most recent book is Organize Your Genealogy: Strategies and Solutions for Every Researcher\, published in 2016 by Family Tree Books. He is currently working on a new book. \n\n\n\nDrew regularly speaks at conferences and meetings of national\, state\, and local genealogy societies\, especially on topics linking genealogy and technology.  Together with George G. Morgan\, Drew has been the co-host of The Genealogy Guys Podcast since September 2005. Beginning in 2016\, he hosts the Genealogy Connections Podcast.
URL:https://aigensoc.org/event/your-ancestors-fan-club/
LOCATION:Fernandina Beach Library\, 25 N 4th St\, Fernandina Beach\, FL\, 32034\, United States
CATEGORIES:General Meeting
ATTACH;FMTTYPE=image/jpeg:https://aigensoc.org/wp-content/uploads/2022/04/Drew-Smith-1.jpg
ORGANIZER;CN="Amelia Island Genealogical Society":MAILTO:programs@aigensoc.org
END:VEVENT
END:VCALENDAR