BEGIN:VCALENDAR
VERSION:2.0
PRODID:-//Amelia Island Genealogical Society - ECPv6.15.18//NONSGML v1.0//EN
CALSCALE:GREGORIAN
METHOD:PUBLISH
X-ORIGINAL-URL:https://aigensoc.org
X-WR-CALDESC:Events for Amelia Island Genealogical Society
REFRESH-INTERVAL;VALUE=DURATION:PT1H
X-Robots-Tag:noindex
X-PUBLISHED-TTL:PT1H
BEGIN:VTIMEZONE
TZID:America/New_York
BEGIN:DAYLIGHT
TZOFFSETFROM:-0500
TZOFFSETTO:-0400
TZNAME:EDT
DTSTART:20220313T070000
END:DAYLIGHT
BEGIN:STANDARD
TZOFFSETFROM:-0400
TZOFFSETTO:-0500
TZNAME:EST
DTSTART:20221106T060000
END:STANDARD
BEGIN:DAYLIGHT
TZOFFSETFROM:-0500
TZOFFSETTO:-0400
TZNAME:EDT
DTSTART:20230312T070000
END:DAYLIGHT
BEGIN:STANDARD
TZOFFSETFROM:-0400
TZOFFSETTO:-0500
TZNAME:EST
DTSTART:20231105T060000
END:STANDARD
BEGIN:DAYLIGHT
TZOFFSETFROM:-0500
TZOFFSETTO:-0400
TZNAME:EDT
DTSTART:20240310T070000
END:DAYLIGHT
BEGIN:STANDARD
TZOFFSETFROM:-0400
TZOFFSETTO:-0500
TZNAME:EST
DTSTART:20241103T060000
END:STANDARD
END:VTIMEZONE
BEGIN:VEVENT
DTSTART;TZID=America/New_York:20230321T190000
DTEND;TZID=America/New_York:20230321T203000
DTSTAMP:20260423T132116
CREATED:20230227T151233Z
LAST-MODIFIED:20230227T211249Z
UID:19260-1679425200-1679430600@aigensoc.org
SUMMARY:Genealogy or History? Collaborative Research in Action
DESCRIPTION:Come join us on 21 March 2023 at 7:00pm in the Fernandina Branch Library community room. Carol Clay\, Past-President of the Southern Genealogist Exchange\, Inc. will present “Genealogy or History? Collaborative Research in Action” where she will discuss two Jacksonville families research while extolling the benefits of the collection at the Southern Genealogist Exchange office on Sauterne Drive in Jacksonville. She will also share the history of the 58-year-old family research nonprofit\, and will talk about their more than 6\,000 books\, periodicals\, and magazines\, as well as a collection of maps\, family histories\, and over 100\,000 obituaries from Jacksonville and the surrounding regions. \n\n\n\nCarol Clay\n\n\n\nCarol Clay retired from the St. Johns County School System after 19 years. In her role as a paraprofessional she held many positions in administration and student instruction. She has been a member of the Southern Genealogist’s Exchange Society since 2014. Carol has served on the Executive Board of SGES since 2015 in various positions including President.
URL:https://aigensoc.org/event/genealogy-or-history-collaborative-research-in-action/
LOCATION:Fernandina Beach Library\, 25 N 4th St\, Fernandina Beach\, FL\, 32034\, United States
CATEGORIES:General Meeting
ATTACH;FMTTYPE=image/jpeg:https://aigensoc.org/wp-content/uploads/2023/02/Southern-Genealogist-Exchange-Society.jpg
ORGANIZER;CN="Amelia Island Genealogical Society":MAILTO:programs@aigensoc.org
END:VEVENT
END:VCALENDAR