BEGIN:VCALENDAR
VERSION:2.0
PRODID:-//Amelia Island Genealogical Society - ECPv6.15.18//NONSGML v1.0//EN
CALSCALE:GREGORIAN
METHOD:PUBLISH
X-ORIGINAL-URL:https://aigensoc.org
X-WR-CALDESC:Events for Amelia Island Genealogical Society
REFRESH-INTERVAL;VALUE=DURATION:PT1H
X-Robots-Tag:noindex
X-PUBLISHED-TTL:PT1H
BEGIN:VTIMEZONE
TZID:America/New_York
BEGIN:DAYLIGHT
TZOFFSETFROM:-0500
TZOFFSETTO:-0400
TZNAME:EDT
DTSTART:20200308T070000
END:DAYLIGHT
BEGIN:STANDARD
TZOFFSETFROM:-0400
TZOFFSETTO:-0500
TZNAME:EST
DTSTART:20201101T060000
END:STANDARD
BEGIN:DAYLIGHT
TZOFFSETFROM:-0500
TZOFFSETTO:-0400
TZNAME:EDT
DTSTART:20210314T070000
END:DAYLIGHT
BEGIN:STANDARD
TZOFFSETFROM:-0400
TZOFFSETTO:-0500
TZNAME:EST
DTSTART:20211107T060000
END:STANDARD
BEGIN:DAYLIGHT
TZOFFSETFROM:-0500
TZOFFSETTO:-0400
TZNAME:EDT
DTSTART:20220313T070000
END:DAYLIGHT
BEGIN:STANDARD
TZOFFSETFROM:-0400
TZOFFSETTO:-0500
TZNAME:EST
DTSTART:20221106T060000
END:STANDARD
END:VTIMEZONE
BEGIN:VEVENT
DTSTART;TZID=America/New_York:20210420T190000
DTEND;TZID=America/New_York:20210420T200000
DTSTAMP:20260419T194050
CREATED:20210411T112200Z
LAST-MODIFIED:20211116T200322Z
UID:535-1618945200-1618948800@aigensoc.org
SUMMARY:Finding Isaac and Dora Peckham
DESCRIPTION:During our next virtual meeting\, genealogist Linda Olsen will give a LIVE presentation about her research into the eventful lives of Isaac and Dora Peckham\, who served as keepers of the St. Simons Lighthouse in the late 1800s. \n\n\n\nAs usual\, the meeting will be facilitated by the Florida State Genealogical Society via GoToWebinar\, and you must pre-register at: https://attendee.gotowebinar.com/register/3308228591895150348 \n\n\n\nAfter registering\, you will receive a confirmation email containing an “invitation” and information/link for joining the virtual meeting/webinar. About 10 minutes before our meeting click on the invitation link. We will join you at the time of the meeting and will then proceed with our scheduled presentation. \n\n\n\nWebinar Abstract: \n\n\n\nThrough Ancestry.com and work with the Farmington Historical Society\, it was possible to piece together the puzzle of how Isaac Peckham came from Connecticut to Georgia. After he fought in the Third Seminole Indian War and on the Confederate side in the Civil War\, he became the Assistant Lighthouse Keeper on Little Cumberland Island and from there was promoted to Lighthouse Keeper at St. Simons. \n\n\n\nMarianne Isadora Lasserre’s family came from St. Augustine\, FL after her father\, a shipbuilder\, was invited up to Georgia by a wealthy plantation owner in 1850. After Isaac’s death in 1897\, Marianne Isadora Lasserre remained in the St. Simons area until 1917 when she moved to Fernandina to be closer to her younger siblings.  She died in 1931 and is buried in her family plot at Bosque Bello Cemetery.  For information on her life in Fernandina\, Linda consulted the genealogical resources at Nassau County Library and worked with the Amelia Island Museum of History. \n\n\n\nPresenter: \n\n\n\n\n\n\n\nLinda’s journey into genealogy began with researching her own family roots. “I’ve learned so much from walking in my family’s footsteps\,” she says. “It’s amazing to view history through the eyes of the people you are researching. Linda is an active member of the Coastal Georgia Genealogy Society. In 2019\, she was approached by the Coastal Georgia Historical Society to research St. Simons Island Lighthouse keeper Isaac Peckham and his wife Dora.
URL:https://aigensoc.org/event/finding-isaac-and-dora-peckham/
LOCATION:Florida
CATEGORIES:General Meeting
ATTACH;FMTTYPE=image/jpeg:https://aigensoc.org/wp-content/uploads/2021/04/LindaOlsen.jpg
END:VEVENT
END:VCALENDAR