BEGIN:VCALENDAR
VERSION:2.0
PRODID:-//Amelia Island Genealogical Society - ECPv6.15.18//NONSGML v1.0//EN
CALSCALE:GREGORIAN
METHOD:PUBLISH
X-WR-CALNAME:Amelia Island Genealogical Society
X-ORIGINAL-URL:https://aigensoc.org
X-WR-CALDESC:Events for Amelia Island Genealogical Society
REFRESH-INTERVAL;VALUE=DURATION:PT1H
X-Robots-Tag:noindex
X-PUBLISHED-TTL:PT1H
BEGIN:VTIMEZONE
TZID:America/New_York
BEGIN:DAYLIGHT
TZOFFSETFROM:-0500
TZOFFSETTO:-0400
TZNAME:EDT
DTSTART:20200308T070000
END:DAYLIGHT
BEGIN:STANDARD
TZOFFSETFROM:-0400
TZOFFSETTO:-0500
TZNAME:EST
DTSTART:20201101T060000
END:STANDARD
BEGIN:DAYLIGHT
TZOFFSETFROM:-0500
TZOFFSETTO:-0400
TZNAME:EDT
DTSTART:20210314T070000
END:DAYLIGHT
BEGIN:STANDARD
TZOFFSETFROM:-0400
TZOFFSETTO:-0500
TZNAME:EST
DTSTART:20211107T060000
END:STANDARD
BEGIN:DAYLIGHT
TZOFFSETFROM:-0500
TZOFFSETTO:-0400
TZNAME:EDT
DTSTART:20220313T070000
END:DAYLIGHT
BEGIN:STANDARD
TZOFFSETFROM:-0400
TZOFFSETTO:-0500
TZNAME:EST
DTSTART:20221106T060000
END:STANDARD
END:VTIMEZONE
BEGIN:VEVENT
DTSTART;TZID=America/New_York:20210316T190000
DTEND;TZID=America/New_York:20210316T200000
DTSTAMP:20260419T162954
CREATED:20210212T033931Z
LAST-MODIFIED:20211116T200322Z
UID:114-1615921200-1615924800@aigensoc.org
SUMMARY:“Pits I Have Fallen In and How to Avoid Them”
DESCRIPTION:Please join us for our next AIGS Virtual Monthly Meeting\, Tuesday\, Feb 16\, 2021\, at 7:00 PM. Notification of virtual meetings occur via email. The email will contain a link for you to register online for the meeting and after doing so\, you will receive a subsequent email with a link to connect to the meeting on the appropriate day and time. \n\n\n\n“The best thing about making mistakes is the opportunity to learn from them. I’ve made my share of genealogical mistakes over the years\, but I’ve learned that most of them have resulted from faulty assumptions. In this talk\, we’ll examine eight commonly-held but incorrect assumptions and consider some strategies and resources to help head off errors before they happen.” \n\n\n\nSpeaker: Pam Vestal\n\n\n\n\n\n\n\nPam Vestal is a professional genealogist\, writer\, and speaker from West Linn\, Oregon\, and the owner of Generations Genealogy\, LLC. She lectures throughout the western United States\, and her work has been published in the Association of Professional Genealogists Quarterly. When she isn’t giving presentations or researching on behalf of her clients\, she offers private training to those seeking to improve their research skills.
URL:https://aigensoc.org/event/pits-i-have-fallen-in-and-how-to-avoid-them/
LOCATION:Online
CATEGORIES:General Meeting
ATTACH;FMTTYPE=image/png:https://aigensoc.org/wp-content/uploads/2021/02/Pam-Vestal-300x300-1.png
ORGANIZER;CN="Amelia Island Genealogical Society":MAILTO:programs@aigensoc.org
END:VEVENT
END:VCALENDAR