BEGIN:VCALENDAR
VERSION:2.0
PRODID:-//Amelia Island Genealogical Society - ECPv6.15.18//NONSGML v1.0//EN
CALSCALE:GREGORIAN
METHOD:PUBLISH
X-ORIGINAL-URL:https://aigensoc.org
X-WR-CALDESC:Events for Amelia Island Genealogical Society
REFRESH-INTERVAL;VALUE=DURATION:PT1H
X-Robots-Tag:noindex
X-PUBLISHED-TTL:PT1H
BEGIN:VTIMEZONE
TZID:America/New_York
BEGIN:DAYLIGHT
TZOFFSETFROM:-0500
TZOFFSETTO:-0400
TZNAME:EDT
DTSTART:20190310T070000
END:DAYLIGHT
BEGIN:STANDARD
TZOFFSETFROM:-0400
TZOFFSETTO:-0500
TZNAME:EST
DTSTART:20191103T060000
END:STANDARD
BEGIN:DAYLIGHT
TZOFFSETFROM:-0500
TZOFFSETTO:-0400
TZNAME:EDT
DTSTART:20200308T070000
END:DAYLIGHT
BEGIN:STANDARD
TZOFFSETFROM:-0400
TZOFFSETTO:-0500
TZNAME:EST
DTSTART:20201101T060000
END:STANDARD
BEGIN:DAYLIGHT
TZOFFSETFROM:-0500
TZOFFSETTO:-0400
TZNAME:EDT
DTSTART:20210314T070000
END:DAYLIGHT
BEGIN:STANDARD
TZOFFSETFROM:-0400
TZOFFSETTO:-0500
TZNAME:EST
DTSTART:20211107T060000
END:STANDARD
END:VTIMEZONE
BEGIN:VEVENT
DTSTART;TZID=America/New_York:20200915T190000
DTEND;TZID=America/New_York:20200915T200000
DTSTAMP:20260419T145342
CREATED:20210613T142935Z
LAST-MODIFIED:20210613T151413Z
UID:15875-1600196400-1600200000@aigensoc.org
SUMMARY:Using Non-Population Schedules for Context and Evidence
DESCRIPTION:Please join us for our monthly (virtual) meeting on Tuesday\, September 15 at 7 pm.The program will feature an archived webinar by Jill Morelli\, entitled Using Non-Population Schedules for Context and Evidence. The meeting will be via GoToWebinar\, and you must pre-register at: https://attendee.gotowebinar.com/register/6239218723798048270After registering\, you will receive a confirmation email containing an “invitation” and information/link for joining the virtual meeting/webinar. \n\n\n\nWebinar Abstract: Every 10 years the US Federal Government gathers data to apportion the House of Representatives. You may not know that in the 1800s\, they also gathered statistical information related to business and industries\, communities\, agriculture\, mortality and assessment of the insane\, physically handicapped and those individuals in prison. Some of these schedules will provide you with evidence\, while others provide context interpretation of other pieces of evidence is bolstered and your family history enlivened. Using examples of each\, learn how these schedules can help\, why they were established and where they can be found.Presenter: Jill Morelli lectures and writes on genealogical topics that often transcend the more narrowly defined family history. She provides general genealogy services and house histories in the Puget Sound and national venues. She has spoken before large (300+) and small groups and is an engaging and entertaining speaker who conveys genealogical concepts suitable to the level of the audience. She has been previously published in local\, regional and national publications. Jill writes frequently at her blog ‘Genealogy Certification: A Personal Journey’ about her educational efforts to become a certified genealogist.
URL:https://aigensoc.org/event/using-non-population-schedules-for-context-and-evidence/
LOCATION:Florida
CATEGORIES:General Meeting
END:VEVENT
END:VCALENDAR