BEGIN:VCALENDAR
VERSION:2.0
PRODID:-//Amelia Island Genealogical Society - ECPv6.15.18//NONSGML v1.0//EN
CALSCALE:GREGORIAN
METHOD:PUBLISH
X-ORIGINAL-URL:https://aigensoc.org
X-WR-CALDESC:Events for Amelia Island Genealogical Society
REFRESH-INTERVAL;VALUE=DURATION:PT1H
X-Robots-Tag:noindex
X-PUBLISHED-TTL:PT1H
BEGIN:VTIMEZONE
TZID:America/New_York
BEGIN:DAYLIGHT
TZOFFSETFROM:-0500
TZOFFSETTO:-0400
TZNAME:EDT
DTSTART:20240310T070000
END:DAYLIGHT
BEGIN:STANDARD
TZOFFSETFROM:-0400
TZOFFSETTO:-0500
TZNAME:EST
DTSTART:20241103T060000
END:STANDARD
BEGIN:DAYLIGHT
TZOFFSETFROM:-0500
TZOFFSETTO:-0400
TZNAME:EDT
DTSTART:20250309T070000
END:DAYLIGHT
BEGIN:STANDARD
TZOFFSETFROM:-0400
TZOFFSETTO:-0500
TZNAME:EST
DTSTART:20251102T060000
END:STANDARD
BEGIN:DAYLIGHT
TZOFFSETFROM:-0500
TZOFFSETTO:-0400
TZNAME:EDT
DTSTART:20260308T070000
END:DAYLIGHT
BEGIN:STANDARD
TZOFFSETFROM:-0400
TZOFFSETTO:-0500
TZNAME:EST
DTSTART:20261101T060000
END:STANDARD
END:VTIMEZONE
BEGIN:VEVENT
DTSTART;TZID=America/New_York:20250715T190000
DTEND;TZID=America/New_York:20250715T203000
DTSTAMP:20260419T201851
CREATED:20250506T224249Z
LAST-MODIFIED:20250507T142554Z
UID:20173-1752606000-1752611400@aigensoc.org
SUMMARY:The Spanish American War (Fort Clinch & Camp Amelia)
DESCRIPTION:The Amelia Island Genealogical Society will hold its monthly meeting at 7pm on the 3rd Tuesday\, July 15\, 2025 at the Fernandina Beach Library.Topic: The Spanish American War 1898 (Fort Clinch and Camp Amelia)Guest Speaker: Frank Ofeldt\, 2024 Florida Park Ranger of the Year – Fort Clinch \n\n\n\n \n\n\n\n \n\n\n\nDownload Flyer
URL:https://aigensoc.org/event/the-spanish-american-war-ft-clinch-camp-amelia/
LOCATION:Fernandina Beach Library\, 25 N 4th St\, Fernandina Beach\, Florida\, 32034\, United States
CATEGORIES:General Meeting
ATTACH;FMTTYPE=image/jpeg:https://aigensoc.org/wp-content/uploads/2025/05/July-Meeting-Flyer-07-15-2025.jpg
END:VEVENT
END:VCALENDAR