BEGIN:VCALENDAR
VERSION:2.0
PRODID:-//Amelia Island Genealogical Society - ECPv6.15.18//NONSGML v1.0//EN
CALSCALE:GREGORIAN
METHOD:PUBLISH
X-ORIGINAL-URL:https://aigensoc.org
X-WR-CALDESC:Events for Amelia Island Genealogical Society
REFRESH-INTERVAL;VALUE=DURATION:PT1H
X-Robots-Tag:noindex
X-PUBLISHED-TTL:PT1H
BEGIN:VTIMEZONE
TZID:America/New_York
BEGIN:DAYLIGHT
TZOFFSETFROM:-0500
TZOFFSETTO:-0400
TZNAME:EDT
DTSTART:20240310T070000
END:DAYLIGHT
BEGIN:STANDARD
TZOFFSETFROM:-0400
TZOFFSETTO:-0500
TZNAME:EST
DTSTART:20241103T060000
END:STANDARD
BEGIN:DAYLIGHT
TZOFFSETFROM:-0500
TZOFFSETTO:-0400
TZNAME:EDT
DTSTART:20250309T070000
END:DAYLIGHT
BEGIN:STANDARD
TZOFFSETFROM:-0400
TZOFFSETTO:-0500
TZNAME:EST
DTSTART:20251102T060000
END:STANDARD
BEGIN:DAYLIGHT
TZOFFSETFROM:-0500
TZOFFSETTO:-0400
TZNAME:EDT
DTSTART:20260308T070000
END:DAYLIGHT
BEGIN:STANDARD
TZOFFSETFROM:-0400
TZOFFSETTO:-0500
TZNAME:EST
DTSTART:20261101T060000
END:STANDARD
END:VTIMEZONE
BEGIN:VEVENT
DTSTART;TZID=America/New_York:20250218T190000
DTEND;TZID=America/New_York:20250218T203000
DTSTAMP:20260419T111607
CREATED:20250203T215655Z
LAST-MODIFIED:20250203T215657Z
UID:20008-1739905200-1739910600@aigensoc.org
SUMMARY:Lessons Learned from my African-American Genealogy Research
DESCRIPTION:Come join us and our guest speaker Andrew Thompson as he discusses “Lessons Learned from my African American Genealogy Research: There is Something for Everybody.” In this presentation Mr. Thompson will review the best practices and lessons learned during his discovery of over 50 enslaved relatives. These tips transcend the niche of African American Genealogy and will provide practical advice for researchers in all areas of Genealogy. \n\n\n\nThis presentation was re-scheduled from our January meeting due to weather. \n\n\n\nAbout Andrew Thompson\n\n\n\nMr. Thompson is an avid genealogist with extensive experience in the historical South Carolina Lowcountry. Andrew’s experiences includes research for many clients and genealogists from beginning through advanced levels. Andrew is currently in the process of creating AHistoryWeShare.org\, where he and other genealogists perform descendancy research for enslaved individuals listed throughout the various archives they encounter. Andrew also currently serves on the Board of Directors for the Amelia Island Genealogical Society. \n\n\n\nDownload Flyer
URL:https://aigensoc.org/event/lessons-learned-from-my-african-american-genealogy-research/
LOCATION:Fernandina Beach Library\, 25 N 4th St\, Fernandina Beach\, FL\, 32034\, United States
CATEGORIES:General Meeting
ATTACH;FMTTYPE=image/jpeg:https://aigensoc.org/wp-content/uploads/2025/02/February-2025-General-Meeting.jpg
ORGANIZER;CN="Amelia Island Genealogical Society":MAILTO:programs@aigensoc.org
END:VEVENT
END:VCALENDAR